BEGIN:VCALENDAR
VERSION:2.0
PRODID:-//AVDC - ECPv6.1.2.2//NONSGML v1.0//EN
CALSCALE:GREGORIAN
METHOD:PUBLISH
X-WR-CALNAME:AVDC
X-ORIGINAL-URL:https://avdc.ch
X-WR-CALDESC:évènements pour AVDC
REFRESH-INTERVAL;VALUE=DURATION:PT1H
X-Robots-Tag:noindex
X-PUBLISHED-TTL:PT1H
BEGIN:VTIMEZONE
TZID:Europe/Zurich
BEGIN:DAYLIGHT
TZOFFSETFROM:+0100
TZOFFSETTO:+0200
TZNAME:CEST
DTSTART:20230326T010000
END:DAYLIGHT
BEGIN:STANDARD
TZOFFSETFROM:+0200
TZOFFSETTO:+0100
TZNAME:CET
DTSTART:20231029T010000
END:STANDARD
END:VTIMEZONE
BEGIN:VEVENT
DTSTART;TZID=Europe/Zurich:20230306T100000
DTEND;TZID=Europe/Zurich:20230306T113000
DTSTAMP:20260421T110150
CREATED:20230213T171735Z
LAST-MODIFIED:20230213T171735Z
UID:4890-1678096800-1678102200@avdc.ch
SUMMARY:Pratiques de danse hebdomadaires
DESCRIPTION:les lundis (hors vacances et jours fériés) \n\n\n\nUne proposition d’échange de pratiques adressée aux artistes professionnels ayant une pratique physique régulière. \nFévrier : 6\, 13 et 27 avec Alessia Sacco \nMars : 13\, 20 et 27 avec Pauline Huguet \nAvril : 3 et 24 avec Simon Ramseier \nMai : 01\, 08\, 15 et 22 en cours \nJuin : 05\, 12 et 19 avec Grégoire Malandain \n\n\n\n\n\n  \n\n\n\nTarifs \nÉtudiant·es: CHF 3.- \nMembres RP/AVDC/TIGRE/ACTION-DANSE : CHF 5.- \nNon membres: CHF 10.- \nInscriptions : formation.hebdo@rp-geneve.ch
URL:https://avdc.ch/event/echange-de-pratiques-hebdomadaires-2023-03-06/
CATEGORIES:Agenda – workshops & rencontres pros
ATTACH;FMTTYPE=:
END:VEVENT
BEGIN:VEVENT
DTSTART;TZID=Europe/Zurich:20230306T190000
DTEND;TZID=Europe/Zurich:20230306T220000
DTSTAMP:20260421T110150
CREATED:20230209T140540Z
LAST-MODIFIED:20230209T140540Z
UID:4603-1678129200-1678140000@avdc.ch
SUMMARY:Workshop avec Phia Ménard
DESCRIPTION:Depuis le début de l’épidémie globalisée de Covid\, de nouvelles injonctions sont venues troubler l’ordre des rapports entre les individus. Les espaces relégués à la notion de distance entre individus\, les gestes devenus des barrières\, le fluide et la sécrétion des agents contaminants. Une nouvelle grammaire est née et avec elle une façon différente de s’appréhender. Suis-je un danger pour l’autre ? Suis-je en danger ? …\nJe vous invite à questionner les rituels de ces grammaires naissantes\, à les rendre autant nécessaires que performatifs\, c’est à dire intimes.
URL:https://avdc.ch/event/workshop-avec-phia-menard/
CATEGORIES:Agenda – workshops & rencontres pros
ATTACH;FMTTYPE=:
END:VEVENT
END:VCALENDAR