BEGIN:VCALENDAR
VERSION:2.0
PRODID:-//AVDC - ECPv6.1.2.2//NONSGML v1.0//EN
CALSCALE:GREGORIAN
METHOD:PUBLISH
X-ORIGINAL-URL:https://avdc.ch
X-WR-CALDESC:évènements pour AVDC
REFRESH-INTERVAL;VALUE=DURATION:PT1H
X-Robots-Tag:noindex
X-PUBLISHED-TTL:PT1H
BEGIN:VTIMEZONE
TZID:Europe/Zurich
BEGIN:DAYLIGHT
TZOFFSETFROM:+0100
TZOFFSETTO:+0200
TZNAME:CEST
DTSTART:20240331T010000
END:DAYLIGHT
BEGIN:STANDARD
TZOFFSETFROM:+0200
TZOFFSETTO:+0100
TZNAME:CET
DTSTART:20241027T010000
END:STANDARD
END:VTIMEZONE
BEGIN:VEVENT
DTSTART;TZID=Europe/Zurich:20240402T201500
DTEND;TZID=Europe/Zurich:20240402T214500
DTSTAMP:20260421T103939
CREATED:20240118T153456Z
LAST-MODIFIED:20240118T153456Z
UID:32014-1712088900-1712094300@avdc.ch
SUMMARY:Les mardis soirs\, venez danser!
DESCRIPTION:Matthieu vous invite à le rejoindre pour bouger\, danser\, vous exprimer en musique à l’Annexe 36\, à Lausanne\, de 20h15 à 21h45. \nPar des tâches simples et ludiques\, nous créerons des compositions spontanées ensemble\, pour le plaisir d’habiter son corps et de partager l’instant\, la lenteur et la vitesse\, pour nous surprendre joyeusement et\, pourquoi pas :)\, rentrer ensuite chez soi en ayant aimé sa journée! \nAucun pré-requis (sauf avoir un corps)\, quels que soient votre âge\, votre condition physique. Prenez des vêtements confortables. On danse à pieds nus ou en chaussettes. La participation régulière est encouragée\, les participations ponctuelles aussi! \nLes danseureusexs pro sont les bienvenuexs.
URL:https://avdc.ch/event/les-mardis-soirs-venez-danser-2-2-3-4-2-2-2-2-2-2-2-2-2-2-2-2-2-2-2-2/
LOCATION:Annexe 36 – studio\, Rue de Genève 103\, Lausanne\, Vaud\, 1004\, Suisse
CATEGORIES:Agenda – workshops & rencontres pros
ATTACH;FMTTYPE=image/png:https://avdc.ch/wp-content/uploads/2023/09/mardis-1-002.png
ORGANIZER;CN="Cie%20Matea":MAILTO:matthieu.ruf@gmail.com
END:VEVENT
BEGIN:VEVENT
DTSTART;TZID=Europe/Zurich:20240409T201500
DTEND;TZID=Europe/Zurich:20240409T214500
DTSTAMP:20260421T103939
CREATED:20240118T153521Z
LAST-MODIFIED:20240118T153521Z
UID:32016-1712693700-1712699100@avdc.ch
SUMMARY:Les mardis soirs\, venez danser!
DESCRIPTION:Matthieu vous invite à le rejoindre pour bouger\, danser\, vous exprimer en musique à l’Annexe 36\, à Lausanne\, de 20h15 à 21h45. \nPar des tâches simples et ludiques\, nous créerons des compositions spontanées ensemble\, pour le plaisir d’habiter son corps et de partager l’instant\, la lenteur et la vitesse\, pour nous surprendre joyeusement et\, pourquoi pas :)\, rentrer ensuite chez soi en ayant aimé sa journée! \nAucun pré-requis (sauf avoir un corps)\, quels que soient votre âge\, votre condition physique. Prenez des vêtements confortables. On danse à pieds nus ou en chaussettes. La participation régulière est encouragée\, les participations ponctuelles aussi! \nLes danseureusexs pro sont les bienvenuexs.
URL:https://avdc.ch/event/les-mardis-soirs-venez-danser-2-2-3-4-2-2-2-2-2-2-2-2-2-2-2-2-2-2-2-2-2/
LOCATION:Annexe 36 – studio\, Rue de Genève 103\, Lausanne\, Vaud\, 1004\, Suisse
CATEGORIES:Agenda – workshops & rencontres pros
ATTACH;FMTTYPE=image/png:https://avdc.ch/wp-content/uploads/2023/09/mardis-1-002.png
ORGANIZER;CN="Cie%20Matea":MAILTO:matthieu.ruf@gmail.com
END:VEVENT
BEGIN:VEVENT
DTSTART;TZID=Europe/Zurich:20240413T100000
DTEND;TZID=Europe/Zurich:20240413T163000
DTSTAMP:20260421T103939
CREATED:20240408T140217Z
LAST-MODIFIED:20240408T140217Z
UID:32259-1713002400-1713025800@avdc.ch
SUMMARY:Workshop avec Mathilde Monnier
DESCRIPTION:En lien et en amont de la représentation appelée « Territoires » à la Comédie de Genève le 5 mai 2024\, Mathilde Monnier propose un stage autour des différents axes de son répertoire.\n« Territoires » est une succession de capsules de danse entre 3 et 8 minutes\, qui sont liées à des pièces du répertoire de la compagnie depuis 1994. \nLors du stage nous traverserons quelques-unes des ces capsules qui sont des solos et des duos. Comme une façon d’entrer dans la mémoire des pièces pour en faire un mini kaléidoscope. \nChaque participant·x·e pourra ainsi s’imprégner de un ou deux extraits en lui apportant sa propre interprétation. \nPublic-cible : artistes chorégraphiques professionnel·le·s ou de niveau avancé\, ouverts aux personnes de toutes disciplines de danse. Le workshop est accessible aux personnes en situation de handicap. \nTarifs : 65 CHF (non-membre)\, 45 CHF (membre AVDC\, RP danses – Genève et Action-Danse Fribourg)\, 35 CHF (moins de 25 ans\, étudiant·x·s en arts\, AVS) \ninscription \nDans le cadre de sa réflexion sur la danse et la parentalité\, un service de garde d’enfants peut être mis en place. Si vous souhaitez en bénéficier\, merci de le préciser lors de l’inscription en mentionnant l’âge des enfants. Ce service est offert par l’association. sur ce workshop entre 9.45 et 12.45.
URL:https://avdc.ch/event/workshop-avec-mathilde-monnier-2/
LOCATION:Comédie de Genève – studio 1\, entrée des artistes Promenade Louise-Boulaz 2\, Genève\, 1207\, Suisse
CATEGORIES:Agenda – workshops & rencontres pros
ATTACH;FMTTYPE=image/jpeg:https://avdc.ch/wp-content/uploads/2023/09/big_Mathilde-Monnier.jpg
END:VEVENT
BEGIN:VEVENT
DTSTART;TZID=Europe/Zurich:20240413T100000
DTEND;TZID=Europe/Zurich:20240413T190000
DTSTAMP:20260421T103939
CREATED:20240304T134927Z
LAST-MODIFIED:20240304T134957Z
UID:32174-1713002400-1713034800@avdc.ch
SUMMARY:Bouge en avril!
DESCRIPTION:Le Théâtre Sévelin 36 ouvre ses portes 2 samedis par mois pour célébrer la danse et le mouvement avec un programme d’activités (cours\, ateliers\, workshops\, training\, battle/scène ouverte) pour un public intergénérationnel\, adultes comme enfants\, personnes amatrices comme professionnelles. \n\n9-11h: atelier danse \navec Sara Buncic\nà destination des personnes aveugles ou malvoyantes\nun atelier de danse pour explorer le mouvement spécialement conçus pour les personnes avec déficience visuelle. Aucun pré-requis n’est demandé. Possibilité de venir avec des personnes accompagnantes.\nInscription désirée et infos complémentaires à info@cie-elide.ch /076 710 57 70\n10-11h : danse en famille – dispositif danse assise (foyer)\navec Krisztina Abranyi\nà destination des familles et de toutes les générations\nUn atelier intergénérationnel pour danser en famille et célébrer nos ainé·e·s. Viens danser de manière ludique avec tes parents et tes enfants\, explorer toutes les potentialités et créativités de la danse assise en groupe. Spécialement conçu pour bouger\, expérimenter\, se challenger en duo/trio ou bien seul\, venez ponctuer votre quotidien avec la joie de danser avec vos ainé·e·s en étant confortablement assis·e·s.\nCet atelier est ouvert aux personnes âgées et/ou à mobilité réduite.\nPlus de renseignements PMR à mediation@theatresevelin36.ch\n11-13h: atelier danse (foyer)\navec Jade Albasini & Mélanie Gobet\, en collaboration avec l’Association Découvrir\nà destination des femmes*/ invitation spéciale aux personnes migrantes\nUn projet de community dance autour des névroses dites « féminines » pour les personnes qui veulent utiliser ces états de corps et se les réapproprier dans un travail chorégraphique. Le but est qu’ensemble\, nous donnions forme à une atmosphère rassembleuse au féminisme pluriel. Personnes dès 18 ans qui s’identifient comme femmes et prêtes à s’engager pour l’ensemble de l’atelier de mouvement (1xmois). Invitation spéciale aux personnes issue de la migration.\nInscription désirée et infos complémentaires à jade.albasini@gmail.com\n11-13h: atelier d’expression corporelle (plateau)\navec Giulia Crescenzi\ntoutes générations bienvenues \nUn atelier mélangeant danse et théâtre pour les jeunes curieux·ses de s’amuser et d’explorer la créativité qui s’exprime depuis nos corps\, toute langue bienvenue (pas besoin de parler français ni anglais!).\n13-15h: Improvise ta danse! – danse contemporaine\navec Noémie Cuérel & Matthieu Ruf\nà destination des parents-enfants\nPar le jeu et le partage\, avec curiosité\, nous partirons à la découverte de la danse d’improvisation en famille. L’occasion d’explorer ensemble de nouvelles manières de bouger\, de s’exprimer\, le tout dans un environnement bienveillant pour laisser les créativités bouillonnées !\n15-16h: Improvise ta danse! – danse contemporaine\navec Noémie Cuérel & Matthieu Ruf\nà destination des enfants-ados (8–16 ans)\nUne proposition pour les enfants-ados afin de poursuivre la découverte de la danse d’improvisation avec les deux intervenant·e·s professionnel·les.\n16-19h: échauffement collectif + scène ouverte \navec Noémie Cuérel & Matthieu Ruf\npour les adultes (tout niveau)\nUne plateforme de 1 heure pour proposer des performances de danse\, dans un esprit de partage et de spontanéité. En solo\, en petit groupe\, avec ou sans musique\, de 1 à 15 minutes\, viens expérimenter sur scène avec du public ! Un échauffement collectif précédera les performances : ouvert aux perfomeur·euses et au public spectateur·trices.\nInscription et informations complémentaires à scene.ouverte.samedi@gmail.com
URL:https://avdc.ch/event/bouge-en-avril/
LOCATION:Théâtre Sévelin 36\, Avenue de Sévelin 36\, Lausanne\, 1004\, Suisse
CATEGORIES:Agenda – workshops & rencontres pros
ATTACH;FMTTYPE=image/png:https://avdc.ch/wp-content/uploads/2024/03/avril.png
ORGANIZER;CN="Th%C3%A9%C3%A2tre%20S%C3%A9velin%2036":MAILTO:info@theatresevelin36.ch
END:VEVENT
BEGIN:VEVENT
DTSTART;TZID=Europe/Zurich:20240427T100000
DTEND;TZID=Europe/Zurich:20240427T200000
DTSTAMP:20260421T103939
CREATED:20240304T135256Z
LAST-MODIFIED:20240304T135256Z
UID:32177-1714212000-1714248000@avdc.ch
SUMMARY:Bouge en avril! #2
DESCRIPTION:Le Théâtre Sévelin 36 ouvre ses portes 2 samedis par mois pour célébrer la danse et le mouvement avec un programme d’activités (cours\, ateliers\, workshops\, training\, battle/scène ouverte) pour un public intergénérationnel\, adultes comme enfants\, personnes amatrices comme professionnelles. \n\n12-13h: atelier danse \navec Sara Buncic\nà destination des personnes aveugles ou malvoyantes\nUn atelier de danse pour explorer le mouvement spécialement conçus pour les personnes avec déficience visuelle. Aucun pré-requis n’est demandé. Possibilité de venir avec des personnes accompagnantes.\nInscription désirée et infos complémentaires à info@cie-elide.ch /076 710 57 70\n13-14h: atelier danse urbaine – krump\navec Amandine Ngindu alias Mamu Tshi\nà destination des parents-enfants\nFigure internationale du Krump en Suisse\, venez découvrir et partager un moment parent-enfant dans une ambiance festive et conviviale avec Mamu Tshi.\n14-15h: atelier danse urbaine – krump\navec Amandine Ngindu alias Mamu Tshi\nà destination des enfants-ados (8-16 ans)\nUne proposition pour les enfants-ados afin découvrir les joies de la pratique du krump et s’amuser en groupe avec une intervenante professionnelle.\n16-18h: training danse urbaine – krump\navec Amandine Ngindu alias Mamu Tshi\npour les adultes (pros & tout niveau)\nUne session inédite de training ouvert à tout le monde autour du krump. L’occasion de découvrir les spécificités de cette danse et se challenger en groupe. Ambiance garantie ! Un appel aux pros comme aux amateurs·rices !\n18-20h: danse libre\navec le collectif Tuesday is Dance Day\npour les adultes (tout niveau)\nMets ton legging et viens expérimenter le mouvement sur des sons suaves et électrisants pour un voyage vivifiant\, le tout dans la pénombre. Un seul principe : nous dansons librement\, ne jugeons ni les mouvements des autres\, ni la musique des DJs.\nInstagram : @tuesdayisdanceday
URL:https://avdc.ch/event/bouge-en-avril-2/
LOCATION:Annexe 36 – studio\, Rue de Genève 103\, Lausanne\, Vaud\, 1004\, Suisse
CATEGORIES:Agenda – workshops & rencontres pros
ATTACH;FMTTYPE=image/png:https://avdc.ch/wp-content/uploads/2024/03/avril-2.png
ORGANIZER;CN="Th%C3%A9%C3%A2tre%20S%C3%A9velin%2036":MAILTO:info@theatresevelin36.ch
END:VEVENT
BEGIN:VEVENT
DTSTART;TZID=Europe/Zurich:20240428T100000
DTEND;TZID=Europe/Zurich:20240429T170000
DTSTAMP:20260421T103939
CREATED:20240118T160440Z
LAST-MODIFIED:20240118T160440Z
UID:32030-1714298400-1714410000@avdc.ch
SUMMARY:Workshop trois chorégraphes romand·es
DESCRIPTION:Maud Blandel – Caroline de Cornière – Marc Oosterhoff \nDeux journées pour découvrir le travail de trois chorégraphes romand·es programmé·es à Genève lors de la saison. Une occasion unique de rencontrer trois univers différents\, celui de Maud Blandel\, de Caroline de Cornière\, toutes deux programmées au Pavillon ADC\, et celui de Marc Oosterhoff\, programmé à la Comédie de Genève.\nA l’occasion de ce workshop\, iels vous proposeront une plongée dans leur modes de travail\, leurs démarches et points de recherche spécifiques.Public cible : artistes chorégraphiques professionnel·x·les.\n\nTarifs :\nTarif 9h : non-membres CHF 90.- // membres (RP-danses\, Avdc\, Action Danse Fribourg) CHF 65.- // réduit (moins de 25 ans\, étudiant·x·es en arts\, AVS) CHF 45.-\nTarif 6h : non-membres CHF 65.- // membres (RP-danses\, Avdc\, Action Danse Fribourg) CHF 45.- // réduit (moins de 25 ans\, étudiant·x·es en arts\, AVS) CHF 35.-\nTarif 3h : non-membres CHF 45.- // membres (RP-danses\, Avdc\, Action Danse Fribourg) CHF 30.- // réduit (moins de 25 ans\, étudiant·x·es en arts\, AVS) CHF 25.-\n\nInscription : marie-elodie@rp-geneve.ch
URL:https://avdc.ch/event/workshop-trois-choregraphes-romand%c2%b7es/
LOCATION:Le Grütli\, Rue du Général-Dufour 16\, Genève\, 1204
CATEGORIES:Agenda – workshops & rencontres pros
ATTACH;FMTTYPE=image/jpeg:https://avdc.ch/wp-content/uploads/2024/01/slider_NOUS-OFFRONS.jpg
END:VEVENT
END:VCALENDAR